BEGIN:VCALENDAR
METHOD:PUBLISH
VERSION:2.0
CALSCALE:GREGORIAN
PRODID:-//NONSGML Sandhills Development\, LLC//NONSGML Sugar Calendar Fe
 eds v3.3.0//EN
X-WR-CALNAME:Trauma 101
X-WR-CALDESC:Adoptive &amp\; Foster Families of Maine
X-WR-TIMEZONE:UTC
BEGIN:VTIMEZONE
TZID:UTC
BEGIN:STANDARD
TZOFFSETFROM:+0000
TZOFFSETTO:+0000
DTSTART:20170906T060000
TZNAME:UTC
END:STANDARD
END:VTIMEZONE
BEGIN:VTIMEZONE
TZID:UTC
BEGIN:STANDARD
TZOFFSETFROM:+0000
TZOFFSETTO:+0000
DTSTART:20170906T060000
TZNAME:UTC
END:STANDARD
END:VTIMEZONE
BEGIN:VEVENT
SUMMARY:Trauma 101
DESCRIPTION:Kinship Families    Foster Families     Adoptive Fa
 milies\n\n\n\n \n\n\n\n\n**TRAINING**\n\n\n\n\n The Next Augusta Suppo
 rt Group\n\n\n\nWednesday March 7th\, 2018\n6:00pm – 7:30pm\n\nMagic Y
 ears Center\n25 Industrial Drive\, Augusta\n\n “Trauma 101”\nPresen
 ted by: Seanna Macomber\n\n\n\n\nFacilitated by: Jim Hatch\n\n\n\n\n\n 
 \n\n\n\n\n\n\n\n\n\n\n\n*FREE onsite childcare is provided for all child
 ren with advance notice.\n\n*Mileage reimbursement for families travelin
 g more than 30 miles.\n\nRSVP by calling Monica at 1-800-833-9786 or\
 nemail monica@affm.net\nPlease indicate name(s) of adults and the numbe
 r of children with their ages for who will be coming.\n\n\n\n\n\nThis su
 pport group is supported and funded by Maine DHHS\n\n\n\n\n\n\n\n\nShare
  and Support AFFM:FacebookTwitterPinterestTumblrPrint
URL;VALUE=URI:https://affm.net/events/trauma-101/
UID:urn:uuid:f035bf0b-819c-4037-975f-c500ab0b60bf
STATUS:CONFIRMED
ORGANIZER:
DTSTAMP:20260423T091656Z
DTSTART;TZID=UTC:20180307T180000
DTEND;TZID=UTC:20180307T193000
END:VEVENT
END:VCALENDAR