BEGIN:VCALENDAR
METHOD:PUBLISH
VERSION:2.0
CALSCALE:GREGORIAN
PRODID:-//NONSGML Sandhills Development\, LLC//NONSGML Sugar Calendar Fe
 eds v3.3.0//EN
X-WR-CALNAME:Statewide C.A.R.E.S. Meeting
X-WR-CALDESC:Adoptive &amp\; Foster Families of Maine
X-WR-TIMEZONE:UTC
BEGIN:VTIMEZONE
TZID:UTC
BEGIN:STANDARD
TZOFFSETFROM:+0000
TZOFFSETTO:+0000
DTSTART:20211213T220000
TZNAME:UTC
END:STANDARD
END:VTIMEZONE
BEGIN:VTIMEZONE
TZID:UTC
BEGIN:STANDARD
TZOFFSETFROM:+0000
TZOFFSETTO:+0000
DTSTART:20211213T220000
TZNAME:UTC
END:STANDARD
END:VTIMEZONE
BEGIN:VEVENT
SUMMARY:Statewide C.A.R.E.S. Meeting
DESCRIPTION:Statewide - F/A/K - Meets on the second Tuesday of the month
  from 10:00-11:30 AM by ZOOM Conferencing.  RSVP IS REQUIRED EACH MONTH
  TO RECEIVE THE LINK TO JOIN THE MEETING.  RSVP by calling Sheila at 20
 7-827-2331 or email sheila@affm.net.  Meeting led by Brigid Torberg\, A
 FFM Resource Support Coordinator.
URL;VALUE=URI:https://affm.net/events/statewide-c-a-r-e-s-meeting/
UID:urn:uuid:b4f76435-2e66-4bc1-b891-9617c5fa328f
STATUS:CONFIRMED
ORGANIZER:
DTSTAMP:20260421T082231Z
DTSTART;TZID=UTC:20220614T100000
DTEND;TZID=UTC:20220614T113000
END:VEVENT
END:VCALENDAR