BEGIN:VCALENDAR
METHOD:PUBLISH
VERSION:2.0
CALSCALE:GREGORIAN
PRODID:-//NONSGML Sandhills Development\, LLC//NONSGML Sugar Calendar Fe
 eds v3.3.0//EN
X-WR-CALNAME:Role of a Guardian ad Litem (GAL) Training – Lincoln
X-WR-CALDESC:Adoptive &amp\; Foster Families of Maine
X-WR-TIMEZONE:UTC
BEGIN:VTIMEZONE
TZID:UTC
BEGIN:STANDARD
TZOFFSETFROM:+0000
TZOFFSETTO:+0000
DTSTART:20190110T060000
TZNAME:UTC
END:STANDARD
END:VTIMEZONE
BEGIN:VTIMEZONE
TZID:UTC
BEGIN:STANDARD
TZOFFSETFROM:+0000
TZOFFSETTO:+0000
DTSTART:20190110T060000
TZNAME:UTC
END:STANDARD
END:VTIMEZONE
BEGIN:VEVENT
SUMMARY:Role of a Guardian ad Litem (GAL) Training – Lincoln
DESCRIPTION:The Role of a Guardian ad Litem (GAL)\nPat Locke\, ESQ\, wil
 l be discussing such topics as:\n\nThe relevance of intervening\nWhen sh
 ould you intervene\nHow much interaction should you have with the GAL\nN
 otes: What to share and what might cause stress/conflict when attending 
 court\nWays to contact the GAL\n\nParticipants will have the opportunity
  for a question/answer period.\nCertificates for 1.5 hours toward relice
 nsing will be provided.\nShare and Support AFFM:FacebookTwitterPinterest
 TumblrPrint
URL;VALUE=URI:https://affm.net/events/role-of-a-guardian-ad-litem-gal-tr
 aining-lincoln/
UID:urn:uuid:1f6d62c2-7007-40d4-ab9b-5eaa4b340b9d
STATUS:CONFIRMED
ORGANIZER:
DTSTAMP:20260420T102851Z
DTSTART;TZID=UTC:20190711T180000
DTEND;TZID=UTC:20190711T193000
LOCATION:Community Evangel Temple
END:VEVENT
END:VCALENDAR