BEGIN:VCALENDAR
METHOD:PUBLISH
VERSION:2.0
CALSCALE:GREGORIAN
PRODID:-//NONSGML Sandhills Development\, LLC//NONSGML Sugar Calendar Fe
 eds v3.3.0//EN
X-WR-CALNAME:Milford C.A.R.E.S.
X-WR-CALDESC:Adoptive &amp\; Foster Families of Maine
X-WR-TIMEZONE:UTC
BEGIN:VTIMEZONE
TZID:UTC
BEGIN:STANDARD
TZOFFSETFROM:+0000
TZOFFSETTO:+0000
DTSTART:20250417T060000
TZNAME:UTC
END:STANDARD
END:VTIMEZONE
BEGIN:VTIMEZONE
TZID:America/New_York
BEGIN:DAYLIGHT
TZOFFSETFROM:-0400
TZOFFSETTO:-0400
DTSTART:20250417T060000
TZNAME:EDT
END:DAYLIGHT
END:VTIMEZONE
BEGIN:VEVENT
SUMMARY:Milford C.A.R.E.S.
DESCRIPTION:District 6\n\n(Penobscot &amp\; Piscataquis Counties\n\nMilf
 ord - Kinship Only - Meets Thursday\, October 16\, 2025 from 6:00-7:30 P
 .M. at the Dr Lewis S Libby School (13 School Street).  On-site childca
 re is available with advance notice.  RSVP IS REQUIRED EACH MONTH.  RS
 VP by calling Sheila at 207-827-2331\, email sheila@affm.net\, or by cli
 cking on the link below.  The meeting is led by Bette Hoxie\, AFFM Kins
 hip Program Manager.\n\nhttps://affm.my.site.com/s/CARES
URL;VALUE=URI:https://affm.net/events/milford-c-a-r-e-s/
UID:urn:uuid:d6e69dfe-acd0-4666-85d3-ca2e12b2c91c
STATUS:CONFIRMED
ORGANIZER:
DTSTAMP:20260419T130245Z
DTSTART;TZID=America/New_York:20251016T180000
DTEND;TZID=America/New_York:20251016T193000
END:VEVENT
END:VCALENDAR