BEGIN:VCALENDAR
METHOD:PUBLISH
VERSION:2.0
CALSCALE:GREGORIAN
PRODID:-//NONSGML Sandhills Development\, LLC//NONSGML Sugar Calendar Fe
 eds v3.3.0//EN
X-WR-CALNAME:District 6 C.A.R.E.S. Meeting
X-WR-CALDESC:Adoptive &amp\; Foster Families of Maine
X-WR-TIMEZONE:UTC
BEGIN:VTIMEZONE
TZID:UTC
BEGIN:STANDARD
TZOFFSETFROM:+0000
TZOFFSETTO:+0000
DTSTART:20200622T060000
TZNAME:UTC
END:STANDARD
END:VTIMEZONE
BEGIN:VTIMEZONE
TZID:UTC
BEGIN:STANDARD
TZOFFSETFROM:+0000
TZOFFSETTO:+0000
DTSTART:20200622T060000
TZNAME:UTC
END:STANDARD
END:VTIMEZONE
BEGIN:VEVENT
SUMMARY:District 6 C.A.R.E.S. Meeting
DESCRIPTION:District 6:  Adoptive/Foster/Kinship.  Meets on the 3rd Mo
 nday of the month from 6:00-7:30 pm by ZOOM Conferencing.  RSVP IS REQU
 IRED TO RECEIVE LINK TO JOIN MEETING. Contact Sheila at 207-827-2331 or 
 email sheila@affm.net to RSVP.
URL;VALUE=URI:https://affm.net/events/district-6-c-a-r-e-s-meeting/
UID:urn:uuid:ae76c5a3-6c1d-4c6f-a7a4-16e0b9a7e1d3
STATUS:CONFIRMED
ORGANIZER:
DTSTAMP:20260422T094724Z
DTSTART;TZID=UTC:20201221T180000
DTEND;TZID=UTC:20201221T193000
LOCATION:Penobscot &amp\; Piscataquis Counties
END:VEVENT
END:VCALENDAR