BEGIN:VCALENDAR
METHOD:PUBLISH
VERSION:2.0
CALSCALE:GREGORIAN
PRODID:-//NONSGML Sandhills Development\, LLC//NONSGML Sugar Calendar Fe
 eds v3.3.0//EN
X-WR-CALNAME:District 1-3 Adoption/PG C.A.R.E.S. Virtual Meeting
X-WR-CALDESC:Adoptive &amp\; Foster Families of Maine
X-WR-TIMEZONE:UTC
BEGIN:VTIMEZONE
TZID:UTC
BEGIN:STANDARD
TZOFFSETFROM:+0000
TZOFFSETTO:+0000
DTSTART:20250422T000000
TZNAME:UTC
END:STANDARD
END:VTIMEZONE
BEGIN:VTIMEZONE
TZID:America/New_York
BEGIN:DAYLIGHT
TZOFFSETFROM:-0400
TZOFFSETTO:-0400
DTSTART:20250422T000000
TZNAME:EDT
END:DAYLIGHT
END:VTIMEZONE
BEGIN:VEVENT
SUMMARY:District 1-3 Adoption/PG C.A.R.E.S. Virtual Meeting
DESCRIPTION:Adoption/Permanency Guardianship Meeting - Meets Tuesday\, O
 ctober 21st\, 12:00-1:30 P.M. by ZOOM. The meeting is led by Brigid Torb
 erg\, AFFM Resource Support Coordinator. This is an open forum discussio
 n group for post adoptive and Permanency Guardianship parents to share s
 uccess and struggles\, ask questions of\, and gain support from peers. E
 xpand your village and find support with other families post adoption or
  permanency guardianship. RSVP IS EACH MONTH REQUIRED TO RECEIVE THE LIN
 K TO JOIN THE MEETING. RSVP by calling Brigid at 207-827-2331 or email b
 rigid@affm.net or clicking the below link:\n\nhttps://affm.my.site.com/s
 /CARES
URL;VALUE=URI:https://affm.net/events/district-1-3-adoption-pg-c-a-r-e-s
 -virtual-meeting-3/
UID:urn:uuid:bb74d904-f830-4457-adc3-6f064313cbc3
STATUS:CONFIRMED
ORGANIZER:
DTSTAMP:20260423T101338Z
DTSTART;TZID=America/New_York:20251021T120000
DTEND;TZID=America/New_York:20251021T133000
END:VEVENT
END:VCALENDAR