BEGIN:VCALENDAR
METHOD:PUBLISH
VERSION:2.0
CALSCALE:GREGORIAN
PRODID:-//NONSGML Sandhills Development\, LLC//NONSGML Sugar Calendar Fe
 eds v3.3.0//EN
X-WR-CALNAME:C.A.R.E.S. Belfast Meeting - Foster\, Adoptive\, and Kinshi
 p Families
X-WR-CALDESC:Adoptive &amp\; Foster Families of Maine
X-WR-TIMEZONE:UTC
BEGIN:VTIMEZONE
TZID:UTC
BEGIN:STANDARD
TZOFFSETFROM:+0000
TZOFFSETTO:+0000
DTSTART:20240903T053000
TZNAME:UTC
END:STANDARD
END:VTIMEZONE
BEGIN:VTIMEZONE
TZID:America/New_York
BEGIN:STANDARD
TZOFFSETFROM:-0400
TZOFFSETTO:-0500
DTSTART:20241103T060000
TZNAME:EST
END:STANDARD
END:VTIMEZONE
BEGIN:VEVENT
SUMMARY:C.A.R.E.S. Belfast Meeting - Foster\, Adoptive\, and Kinship Fam
 ilies
DESCRIPTION:Belfast - F/A/K:  Meets Tuesday\, March 4\, 2025\, from 5:30
 -7:00 P.M. at the Baptist Church (95 High Street).  On-site childcare is
  available with advance notice. RSVP IS REQUIRED EACH MONTH. \n\n\n RSVP
  by calling Sheila at 207-827-2331\, email sheila@affm.net\, or by click
 ing on the link below.  The meeting is led by Pat Tavernakis\, AFFM Trai
 ner.\nRegister Here: https://affm.my.site.com/s/CARES
URL;VALUE=URI:https://affm.net/events/c-a-r-e-s-belfast-meeting-foster-a
 doptive-and-kinship-families-2/
UID:urn:uuid:b56681a2-e431-4293-b4ae-cad2269e57b2
STATUS:CONFIRMED
ORGANIZER:
DTSTAMP:20260421T080920Z
DTSTART;TZID=America/New_York:20250304T173000
DTEND;TZID=America/New_York:20250304T190000
END:VEVENT
END:VCALENDAR