BEGIN:VCALENDAR
METHOD:PUBLISH
VERSION:2.0
CALSCALE:GREGORIAN
PRODID:-//NONSGML Sandhills Development\, LLC//NONSGML Sugar Calendar Fe
 eds v3.3.0//EN
X-WR-CALNAME:Friday With Friends
X-WR-CALDESC:Adoptive &amp\; Foster Families of Maine
X-WR-TIMEZONE:UTC
BEGIN:VTIMEZONE
TZID:UTC
BEGIN:STANDARD
TZOFFSETFROM:+0000
TZOFFSETTO:+0000
DTSTART:20231123T180000
TZNAME:UTC
END:STANDARD
END:VTIMEZONE
BEGIN:VTIMEZONE
TZID:UTC
BEGIN:STANDARD
TZOFFSETFROM:+0000
TZOFFSETTO:+0000
DTSTART:20231123T180000
TZNAME:UTC
END:STANDARD
END:VTIMEZONE
BEGIN:VEVENT
SUMMARY:Friday With Friends
DESCRIPTION:Friday With Friends: Meets Friday\, May 24\, 2024\, from 6:0
 0-7:00 A.M. by ZOOM Conferencing.  RSVP IS REQUIRED EACH MONTH TO RECEI
 VE THE LINK TO JOIN THE MEETING.  RSVP by calling Heather at 207-827-23
 31\, email heatherc@affm.net\, or by clicking on the link below. Grab yo
 ur favorite cup of coffee and join other resource parents to chat about 
 the joys of family life! This is a great opportunity to catch up with fr
 iends and have some much-needed downtime at the end of a busy week.\n\nh
 ttps://affm.net/cares-rsvp/
URL;VALUE=URI:https://affm.net/events/4970/
UID:urn:uuid:e2c31895-3f02-441b-986c-881dde311b8a
STATUS:CONFIRMED
ORGANIZER:
DTSTAMP:20260421T105637Z
DTSTART;TZID=UTC:20240524T060000
DTEND;TZID=UTC:20240524T070000
END:VEVENT
END:VCALENDAR