BEGIN:VCALENDAR
METHOD:PUBLISH
VERSION:2.0
CALSCALE:GREGORIAN
PRODID:-//NONSGML Sandhills Development\, LLC//NONSGML Sugar Calendar Fe
 eds v3.3.0//EN
X-WR-CALNAME:Skowhegan-C.A.R.E.S.- F/A/K
X-WR-CALDESC:Adoptive &amp\; Foster Families of Maine
X-WR-TIMEZONE:UTC
BEGIN:VTIMEZONE
TZID:UTC
BEGIN:STANDARD
TZOFFSETFROM:+0000
TZOFFSETTO:+0000
DTSTART:20230411T030000
TZNAME:UTC
END:STANDARD
END:VTIMEZONE
BEGIN:VTIMEZONE
TZID:UTC
BEGIN:STANDARD
TZOFFSETFROM:+0000
TZOFFSETTO:+0000
DTSTART:20230411T030000
TZNAME:UTC
END:STANDARD
END:VTIMEZONE
BEGIN:VEVENT
SUMMARY:Skowhegan-C.A.R.E.S.- F/A/K
DESCRIPTION:Skowhegan - F/A/K - Meets Tuesday\, October 10\, 2023\, from
  3:00-4:30 P.M. On-site childcare available with advance notice. RSVP IS
  REQUIRED EACH MONTH. RSVP by calling Sheila at 207-827-2331\, email she
 ila@affm.net or by clicking on the link below.Â  Meeting led by Foster/A
 doptive parent Annmarie Dubois\, and Foster parent Amanda Walz.\n\nÂ Â Â
  Â Â Â Â Â Â Â Â Â Â Â Â Â Â Â Â Â Â Â Â Â Â Â Â Â Â Â Â Â Â Â Â Â Â Â Â
  Â Â Â Â Â Â Â Â Â Â Â Â Â Â https://affm.net/cares-rsvp/
URL;VALUE=URI:https://affm.net/events/4656/
UID:urn:uuid:a688bfbe-e64c-4898-ad26-a56558446eed
STATUS:CONFIRMED
ORGANIZER:
DTSTAMP:20260421T093525Z
DTSTART;TZID=UTC:20231010T150000
DTEND;TZID=UTC:20231010T163000
END:VEVENT
END:VCALENDAR